BEGIN:VCALENDAR
VERSION:2.0
PRODID:-// - ECPv6.15.20//NONSGML v1.0//EN
CALSCALE:GREGORIAN
METHOD:PUBLISH
X-ORIGINAL-URL:https://certificate.inxacademy.edu
X-WR-CALDESC:Events for 
REFRESH-INTERVAL;VALUE=DURATION:PT1H
X-Robots-Tag:noindex
X-PUBLISHED-TTL:PT1H
BEGIN:VTIMEZONE
TZID:UTC
BEGIN:STANDARD
TZOFFSETFROM:+0000
TZOFFSETTO:+0000
TZNAME:UTC
DTSTART:20250101T000000
END:STANDARD
END:VTIMEZONE
BEGIN:VEVENT
DTSTART;VALUE=DATE:20260217
DTEND;VALUE=DATE:20260218
DTSTAMP:20260420T001926
CREATED:20260120T135706Z
LAST-MODIFIED:20260120T135706Z
UID:2269-1771286400-1771372799@certificate.inxacademy.edu
SUMMARY:INX Academy Chinese New Year Egg Roll Day
DESCRIPTION:In Celebration of the Chinese New Year\, INX Academy Chinese New Year Egg Roll Day.
URL:https://certificate.inxacademy.edu/event/inx-academy-chinese-new-year-egg-roll-day/
LOCATION:INX San Diego\, 2555 Camino Del Rio South Suite 150\, San Diego\, 92108\, United States
CATEGORIES:INX Academy Chinese New Year Egg Roll Day
ATTACH;FMTTYPE=image/jpeg:https://certificate.inxacademy.edu/wp-content/uploads/2026/01/images.jpeg
ORGANIZER;CN="INX Academy":MAILTO:sandiego@inxacademy.edu
END:VEVENT
BEGIN:VEVENT
DTSTART;TZID=UTC:20260217T120000
DTEND;TZID=UTC:20260217T143000
DTSTAMP:20260420T001926
CREATED:20251210T225103Z
LAST-MODIFIED:20251210T225103Z
UID:2102-1771329600-1771338600@certificate.inxacademy.edu
SUMMARY:INX  Board Games and Karaoke
DESCRIPTION:INX Academy First Annual Board Games and Karaoke at INX Academy Salt Lake City
URL:https://certificate.inxacademy.edu/event/inx-board-games-and-karaoke/
LOCATION:INX Academy Salt Lake City\, 515 S 700 E\, Salt Lake City\, 84102\, United States
CATEGORIES:Board Games and Karaoke
ATTACH;FMTTYPE=image/png:https://certificate.inxacademy.edu/wp-content/uploads/2025/12/Karaoke.png
ORGANIZER;CN="INX Salt Lake City":MAILTO:saltlake@inxacademy.edu
END:VEVENT
END:VCALENDAR