BEGIN:VCALENDAR
VERSION:2.0
PRODID:-// - ECPv6.15.20//NONSGML v1.0//EN
CALSCALE:GREGORIAN
METHOD:PUBLISH
X-ORIGINAL-URL:https://certificate.inxacademy.edu
X-WR-CALDESC:Events for 
REFRESH-INTERVAL;VALUE=DURATION:PT1H
X-Robots-Tag:noindex
X-PUBLISHED-TTL:PT1H
BEGIN:VTIMEZONE
TZID:UTC
BEGIN:STANDARD
TZOFFSETFROM:+0000
TZOFFSETTO:+0000
TZNAME:UTC
DTSTART:20250101T000000
END:STANDARD
END:VTIMEZONE
BEGIN:VEVENT
DTSTART;VALUE=DATE:20260224
DTEND;VALUE=DATE:20260225
DTSTAMP:20260419T145824
CREATED:20251122T143131Z
LAST-MODIFIED:20251122T185504Z
UID:2022-1771891200-1771977599@certificate.inxacademy.edu
SUMMARY:Steve Jobs Day
DESCRIPTION:2 Annual Steve Jobs Day.  Come to INX with your turtleneck and perfectly round eye glasses and don’t forget your i Phone.  Take a pic and compete for an Apple gift card!
URL:https://certificate.inxacademy.edu/event/steve-jobs-day/
LOCATION:INX San Diego\, 2555 Camino Del Rio South Suite 150\, San Diego\, 92108\, United States
CATEGORIES:School Event Salt Lake City,School Event San Diego
ATTACH;FMTTYPE=image/jpeg:https://certificate.inxacademy.edu/wp-content/uploads/2025/11/images-4.jpeg
ORGANIZER;CN="INX Academy":MAILTO:sandiego@inxacademy.edu
END:VEVENT
END:VCALENDAR