BEGIN:VCALENDAR
VERSION:2.0
PRODID:-// - ECPv6.15.20//NONSGML v1.0//EN
CALSCALE:GREGORIAN
METHOD:PUBLISH
X-ORIGINAL-URL:https://certificate.inxacademy.edu
X-WR-CALDESC:Events for 
REFRESH-INTERVAL;VALUE=DURATION:PT1H
X-Robots-Tag:noindex
X-PUBLISHED-TTL:PT1H
BEGIN:VTIMEZONE
TZID:UTC
BEGIN:STANDARD
TZOFFSETFROM:+0000
TZOFFSETTO:+0000
TZNAME:UTC
DTSTART:20240101T000000
END:STANDARD
END:VTIMEZONE
BEGIN:VEVENT
DTSTART;TZID=UTC:20251121T080000
DTEND;TZID=UTC:20251121T120000
DTSTAMP:20260420T004113
CREATED:20251121T141002Z
LAST-MODIFIED:20251121T141002Z
UID:1994-1763712000-1763726400@certificate.inxacademy.edu
SUMMARY:Official GRE Test
DESCRIPTION:Please sign up through ETS.org
URL:https://certificate.inxacademy.edu/event/official-gre-test-12/
CATEGORIES:Official GRE Testing
END:VEVENT
BEGIN:VEVENT
DTSTART;TZID=UTC:20251124T080000
DTEND;TZID=UTC:20251124T120000
DTSTAMP:20260420T004113
CREATED:20251121T140215Z
LAST-MODIFIED:20251122T184633Z
UID:1988-1763971200-1763985600@certificate.inxacademy.edu
SUMMARY:Official GRE Test
DESCRIPTION:Official GRE Test Please sign up through ETS.org
URL:https://certificate.inxacademy.edu/event/official-gre-test-9/
LOCATION:INX Test Center\, 2515 Camino Del Rio South Suite 100\, San Diego\, CA\, 92108\, United States
CATEGORIES:Official GRE Testing
ATTACH;FMTTYPE=image/png:https://certificate.inxacademy.edu/wp-content/uploads/2025/08/651bfe8d12f944ac2dfed5e4_GRE-1.png
ORGANIZER;CN="INX Academy":MAILTO:sandiego@inxacademy.edu
END:VEVENT
BEGIN:VEVENT
DTSTART;TZID=UTC:20251126T080000
DTEND;TZID=UTC:20251126T120000
DTSTAMP:20260420T004113
CREATED:20251121T140713Z
LAST-MODIFIED:20251121T140713Z
UID:1990-1764144000-1764158400@certificate.inxacademy.edu
SUMMARY:Official GRE Test
DESCRIPTION:Official GRE Test Please sign up through ETS.org
URL:https://certificate.inxacademy.edu/event/official-gre-test-10/
CATEGORIES:Official GRE Testing
ATTACH;FMTTYPE=image/png:https://certificate.inxacademy.edu/wp-content/uploads/2025/08/651bfe8d12f944ac2dfed5e4_GRE-1.png
END:VEVENT
BEGIN:VEVENT
DTSTART;TZID=UTC:20251126T120000
DTEND;TZID=UTC:20251126T143000
DTSTAMP:20260420T004113
CREATED:20251121T140822Z
LAST-MODIFIED:20251122T184756Z
UID:1992-1764158400-1764167400@certificate.inxacademy.edu
SUMMARY:Official GRE Test
DESCRIPTION:Official GRE Test Please sign up through ETS.org
URL:https://certificate.inxacademy.edu/event/official-gre-test-11/
LOCATION:INX Test Center\, 2515 Camino Del Rio South Suite 100\, San Diego\, CA\, 92108\, United States
CATEGORIES:Official GRE Testing
ATTACH;FMTTYPE=image/png:https://certificate.inxacademy.edu/wp-content/uploads/2025/08/651bfe8d12f944ac2dfed5e4_GRE-1.png
ORGANIZER;CN="INX Academy":MAILTO:sandiego@inxacademy.edu
END:VEVENT
END:VCALENDAR