BEGIN:VCALENDAR
VERSION:2.0
PRODID:-// - ECPv6.15.20//NONSGML v1.0//EN
CALSCALE:GREGORIAN
METHOD:PUBLISH
X-ORIGINAL-URL:https://certificate.inxacademy.edu
X-WR-CALDESC:Events for 
REFRESH-INTERVAL;VALUE=DURATION:PT1H
X-Robots-Tag:noindex
X-PUBLISHED-TTL:PT1H
BEGIN:VTIMEZONE
TZID:UTC
BEGIN:STANDARD
TZOFFSETFROM:+0000
TZOFFSETTO:+0000
TZNAME:UTC
DTSTART:20240101T000000
END:STANDARD
END:VTIMEZONE
BEGIN:VEVENT
DTSTART;TZID=UTC:20251008T080000
DTEND;TZID=UTC:20251008T230000
DTSTAMP:20260420T063304
CREATED:20250930T120052Z
LAST-MODIFIED:20250930T120412Z
UID:1797-1759910400-1759964400@certificate.inxacademy.edu
SUMMARY:Official GRE Test
DESCRIPTION:Official GRE Test Please sign up through ETS.org
URL:https://certificate.inxacademy.edu/event/official-gre-test-4/
CATEGORIES:Official GRE Testing
ATTACH;FMTTYPE=image/png:https://certificate.inxacademy.edu/wp-content/uploads/2025/08/651bfe8d12f944ac2dfed5e4_GRE-1.png
END:VEVENT
BEGIN:VEVENT
DTSTART;TZID=UTC:20251008T120000
DTEND;TZID=UTC:20251008T150000
DTSTAMP:20260420T063304
CREATED:20250930T120213Z
LAST-MODIFIED:20250930T120213Z
UID:1799-1759924800-1759935600@certificate.inxacademy.edu
SUMMARY:Official GRE Test
DESCRIPTION:Official GRE Test Please sign up through ETS.org
URL:https://certificate.inxacademy.edu/event/official-gre-test-5/
CATEGORIES:Official GRE Testing
ATTACH;FMTTYPE=image/png:https://certificate.inxacademy.edu/wp-content/uploads/2025/08/651bfe8d12f944ac2dfed5e4_GRE-1.png
END:VEVENT
END:VCALENDAR