BEGIN:VCALENDAR
VERSION:2.0
PRODID:-// - ECPv6.15.20//NONSGML v1.0//EN
CALSCALE:GREGORIAN
METHOD:PUBLISH
X-ORIGINAL-URL:https://certificate.inxacademy.edu
X-WR-CALDESC:Events for 
REFRESH-INTERVAL;VALUE=DURATION:PT1H
X-Robots-Tag:noindex
X-PUBLISHED-TTL:PT1H
BEGIN:VTIMEZONE
TZID:UTC
BEGIN:STANDARD
TZOFFSETFROM:+0000
TZOFFSETTO:+0000
TZNAME:UTC
DTSTART:20240101T000000
END:STANDARD
END:VTIMEZONE
BEGIN:VEVENT
DTSTART;TZID=UTC:20251211T080000
DTEND;TZID=UTC:20251211T120000
DTSTAMP:20260419T232145
CREATED:20251128T172848Z
LAST-MODIFIED:20251128T172848Z
UID:2066-1765440000-1765454400@certificate.inxacademy.edu
SUMMARY:Official GRE Test
DESCRIPTION:Official GRE Test Please sign up through ETS.org
URL:https://certificate.inxacademy.edu/event/official-gre-test-14/
LOCATION:INX San Diego\, 2555 Camino Del Rio South Suite 150\, San Diego\, 92108\, United States
CATEGORIES:Official GRE Testing
ATTACH;FMTTYPE=image/png:https://certificate.inxacademy.edu/wp-content/uploads/2025/08/651bfe8d12f944ac2dfed5e4_GRE-1.png
ORGANIZER;CN="INX Academy":MAILTO:sandiego@inxacademy.edu
END:VEVENT
END:VCALENDAR