BEGIN:VCALENDAR
VERSION:2.0
PRODID:-// - ECPv6.15.20//NONSGML v1.0//EN
CALSCALE:GREGORIAN
METHOD:PUBLISH
X-ORIGINAL-URL:https://certificate.inxacademy.edu
X-WR-CALDESC:Events for 
REFRESH-INTERVAL;VALUE=DURATION:PT1H
X-Robots-Tag:noindex
X-PUBLISHED-TTL:PT1H
BEGIN:VTIMEZONE
TZID:UTC
BEGIN:STANDARD
TZOFFSETFROM:+0000
TZOFFSETTO:+0000
TZNAME:UTC
DTSTART:20240101T000000
END:STANDARD
END:VTIMEZONE
BEGIN:VEVENT
DTSTART;TZID=UTC:20251216T120000
DTEND;TZID=UTC:20251216T143000
DTSTAMP:20260419T232145
CREATED:20251128T173341Z
LAST-MODIFIED:20251128T173424Z
UID:2070-1765886400-1765895400@certificate.inxacademy.edu
SUMMARY:Official GRE Test
DESCRIPTION:Official GRE Test Please sign up through ETS.org
URL:https://certificate.inxacademy.edu/event/official-gre-test-16/
CATEGORIES:Official GRE Testing
ATTACH;FMTTYPE=image/png:https://certificate.inxacademy.edu/wp-content/uploads/2025/08/651bfe8d12f944ac2dfed5e4_GRE-1.png
END:VEVENT
END:VCALENDAR