BEGIN:VCALENDAR
VERSION:2.0
PRODID:-// - ECPv6.15.20//NONSGML v1.0//EN
CALSCALE:GREGORIAN
METHOD:PUBLISH
X-ORIGINAL-URL:https://certificate.inxacademy.edu
X-WR-CALDESC:Events for 
REFRESH-INTERVAL;VALUE=DURATION:PT1H
X-Robots-Tag:noindex
X-PUBLISHED-TTL:PT1H
BEGIN:VTIMEZONE
TZID:UTC
BEGIN:STANDARD
TZOFFSETFROM:+0000
TZOFFSETTO:+0000
TZNAME:UTC
DTSTART:20240101T000000
END:STANDARD
END:VTIMEZONE
BEGIN:VEVENT
DTSTART;TZID=UTC:20260110T120000
DTEND;TZID=UTC:20260110T143000
DTSTAMP:20260419T163607
CREATED:20250930T115842Z
LAST-MODIFIED:20251128T174716Z
UID:1795-1768046400-1768055400@certificate.inxacademy.edu
SUMMARY:Official TOEFL Test
DESCRIPTION:Official TOEFL Test Please sign up through ETS.org
URL:https://certificate.inxacademy.edu/event/official-toefl-test-5/
CATEGORIES:Official TOEFL Testing
ATTACH;FMTTYPE=image/png:https://certificate.inxacademy.edu/wp-content/uploads/2025/08/TOEFL-1.png
END:VEVENT
BEGIN:VEVENT
DTSTART;TZID=UTC:20260103T120000
DTEND;TZID=UTC:20260103T143000
DTSTAMP:20260419T163607
CREATED:20250930T115245Z
LAST-MODIFIED:20251128T174406Z
UID:1790-1767441600-1767450600@certificate.inxacademy.edu
SUMMARY:Official TOEFL Test
DESCRIPTION:Official TOEFL Test Please sign up through ETS.org
URL:https://certificate.inxacademy.edu/event/official-toefl-test-3/
LOCATION:INX Test Center\, 2515 Camino Del Rio South Suite 100\, San Diego\, CA\, 92108\, United States
CATEGORIES:Official TOEFL Testing
ATTACH;FMTTYPE=image/png:https://certificate.inxacademy.edu/wp-content/uploads/2025/08/TOEFL-1.png
ORGANIZER;CN="INX Academy":MAILTO:sandiego@inxacademy.edu
END:VEVENT
BEGIN:VEVENT
DTSTART;TZID=UTC:20251220T120000
DTEND;TZID=UTC:20251220T143000
DTSTAMP:20260419T163607
CREATED:20250930T115700Z
LAST-MODIFIED:20251128T174237Z
UID:1793-1766232000-1766241000@certificate.inxacademy.edu
SUMMARY:Official TOEFL Test
DESCRIPTION:Official TOEFL Test Please sign up through ETS.org
URL:https://certificate.inxacademy.edu/event/official-toefl-test-4/
CATEGORIES:Official TOEFL Testing
ATTACH;FMTTYPE=image/png:https://certificate.inxacademy.edu/wp-content/uploads/2025/08/TOEFL-1.png
END:VEVENT
BEGIN:VEVENT
DTSTART;TZID=UTC:20251213T120000
DTEND;TZID=UTC:20251213T140000
DTSTAMP:20260419T163607
CREATED:20251121T135420Z
LAST-MODIFIED:20251128T174120Z
UID:1984-1765627200-1765634400@certificate.inxacademy.edu
SUMMARY:Official TOEFL Test
DESCRIPTION:Official TOEFL Test Please sign up through ETS.org
URL:https://certificate.inxacademy.edu/event/official-toefl-test-6/
LOCATION:INX San Diego\, 2555 Camino Del Rio South Suite 150\, San Diego\, 92108\, United States
CATEGORIES:Official TOEFL Testing
ATTACH;FMTTYPE=image/png:https://certificate.inxacademy.edu/wp-content/uploads/2025/08/TOEFL.png
ORGANIZER;CN="INX Academy":MAILTO:sandiego@inxacademy.edu
END:VEVENT
BEGIN:VEVENT
DTSTART;TZID=UTC:20251206T110000
DTEND;TZID=UTC:20251206T140000
DTSTAMP:20260419T163607
CREATED:20251121T135924Z
LAST-MODIFIED:20251128T174019Z
UID:1986-1765018800-1765029600@certificate.inxacademy.edu
SUMMARY:Official TOEFL Test
DESCRIPTION:Official TOEFL Test Please sign up through ETS.org
URL:https://certificate.inxacademy.edu/event/official-toefl-test-7/
CATEGORIES:Official TOEFL Testing
ATTACH;FMTTYPE=image/png:https://certificate.inxacademy.edu/wp-content/uploads/2025/08/TOEFL.png
END:VEVENT
BEGIN:VEVENT
DTSTART;TZID=UTC:20250913T120000
DTEND;TZID=UTC:20250913T140000
DTSTAMP:20260419T163607
CREATED:20250828T182505Z
LAST-MODIFIED:20250828T182505Z
UID:1706-1757764800-1757772000@certificate.inxacademy.edu
SUMMARY:Official TOEFL Test
DESCRIPTION:Official TOEFL Test Please sign up through ETS.org
URL:https://certificate.inxacademy.edu/event/official-toefl-test-2/
LOCATION:INX Test Center\, 2515 Camino Del Rio South Suite 100\, San Diego\, CA\, 92108\, United States
CATEGORIES:Official TOEFL Testing
ATTACH;FMTTYPE=image/png:https://certificate.inxacademy.edu/wp-content/uploads/2025/08/TOEFL-1.png
ORGANIZER;CN="INX Academy":MAILTO:sandiego@inxacademy.edu
END:VEVENT
BEGIN:VEVENT
DTSTART;TZID=UTC:20250906T120000
DTEND;TZID=UTC:20250906T143000
DTSTAMP:20260419T163607
CREATED:20250828T124806Z
LAST-MODIFIED:20250828T195707Z
UID:1671-1757160000-1757169000@certificate.inxacademy.edu
SUMMARY:TOEFL iBT
DESCRIPTION:Official TOEFL Test Please sign up through ETS.org
URL:https://certificate.inxacademy.edu/event/toefl-ibt/
LOCATION:INX Test Center\, 2515 Camino Del Rio South Suite 100\, San Diego\, CA\, 92108\, United States
CATEGORIES:Official TOEFL Testing
ATTACH;FMTTYPE=image/png:https://certificate.inxacademy.edu/wp-content/uploads/2025/08/TOEFL.png
END:VEVENT
BEGIN:VEVENT
DTSTART;TZID=UTC:20250830T120000
DTEND;TZID=UTC:20250830T140000
DTSTAMP:20260419T163607
CREATED:20250828T195347Z
LAST-MODIFIED:20250828T195347Z
UID:1708-1756555200-1756562400@certificate.inxacademy.edu
SUMMARY:TOEFL iBT
DESCRIPTION:Official TOEFL Test Please sign up through ETS.org
URL:https://certificate.inxacademy.edu/event/toefl-ibt-2/
LOCATION:INX Test Center\, 2515 Camino Del Rio South Suite 100\, San Diego\, CA\, 92108\, United States
CATEGORIES:Official TOEFL Testing
ATTACH;FMTTYPE=image/png:https://certificate.inxacademy.edu/wp-content/uploads/2025/08/TOEFL-1.png
ORGANIZER;CN="INX Academy":MAILTO:sandiego@inxacademy.edu
END:VEVENT
BEGIN:VEVENT
DTSTART;TZID=UTC:20250828T120000
DTEND;TZID=UTC:20250828T143000
DTSTAMP:20260419T163607
CREATED:20250828T125608Z
LAST-MODIFIED:20250828T131039Z
UID:1682-1756382400-1756391400@certificate.inxacademy.edu
SUMMARY:Official TOEFL Test
DESCRIPTION:Official TOEFL Test Please sign up through ETS.org
URL:https://certificate.inxacademy.edu/event/official-toefl-test/
CATEGORIES:Official TOEFL Testing
ATTACH;FMTTYPE=image/png:https://certificate.inxacademy.edu/wp-content/uploads/2025/08/TOEFL-1.png
END:VEVENT
END:VCALENDAR