BEGIN:VCALENDAR
VERSION:2.0
PRODID:-// - ECPv6.15.20//NONSGML v1.0//EN
CALSCALE:GREGORIAN
METHOD:PUBLISH
X-ORIGINAL-URL:https://certificate.inxacademy.edu
X-WR-CALDESC:Events for 
REFRESH-INTERVAL;VALUE=DURATION:PT1H
X-Robots-Tag:noindex
X-PUBLISHED-TTL:PT1H
BEGIN:VTIMEZONE
TZID:UTC
BEGIN:STANDARD
TZOFFSETFROM:+0000
TZOFFSETTO:+0000
TZNAME:UTC
DTSTART:20240101T000000
END:STANDARD
END:VTIMEZONE
BEGIN:VEVENT
DTSTART;TZID=UTC:20250916T120000
DTEND;TZID=UTC:20250916T133000
DTSTAMP:20260420T022431
CREATED:20250820T202111Z
LAST-MODIFIED:20250904T205407Z
UID:1625-1758024000-1758029400@certificate.inxacademy.edu
SUMMARY:1st Annual INX Tailgate Food Festival
DESCRIPTION:The INX Tailgate food festival is all about learning a true American thing.  Tailgating at sporting events.  This event will be an unforgettable experience for you and your classmate to compete with other classes about which class has the best tailgate food and creativity.
URL:https://certificate.inxacademy.edu/event/1st-annual-inx-tailgate-food-festival/
LOCATION:INX San Diego\, 2555 Camino Del Rio South Suite 150\, San Diego\, 92108\, United States
CATEGORIES:School Event San Diego
ATTACH;FMTTYPE=image/jpeg:https://certificate.inxacademy.edu/wp-content/uploads/2025/08/07742d6c-ad1d-4084-b32a-5f9476ee4112.jpg
ORGANIZER;CN="INX Academy":MAILTO:sandiego@inxacademy.edu
END:VEVENT
END:VCALENDAR