BEGIN:VCALENDAR
VERSION:2.0
PRODID:-// - ECPv6.15.20//NONSGML v1.0//EN
CALSCALE:GREGORIAN
METHOD:PUBLISH
X-ORIGINAL-URL:https://certificate.inxacademy.edu
X-WR-CALDESC:Events for 
REFRESH-INTERVAL;VALUE=DURATION:PT1H
X-Robots-Tag:noindex
X-PUBLISHED-TTL:PT1H
BEGIN:VTIMEZONE
TZID:UTC
BEGIN:STANDARD
TZOFFSETFROM:+0000
TZOFFSETTO:+0000
TZNAME:UTC
DTSTART:20240101T000000
END:STANDARD
END:VTIMEZONE
BEGIN:VEVENT
DTSTART;TZID=UTC:20260311T183000
DTEND;TZID=UTC:20260317T190000
DTSTAMP:20260419T152455
CREATED:20251122T141055Z
LAST-MODIFIED:20260212T221804Z
UID:2016-1773253800-1773774000@certificate.inxacademy.edu
SUMMARY:Green Day with Guacamole (Night Event)
DESCRIPTION:There are two things we love at INX Academy Green Day Green Day with Guacamole!
URL:https://certificate.inxacademy.edu/event/green-day-with-guacamole/
LOCATION:INX San Diego\, 2555 Camino Del Rio South Suite 150\, San Diego\, 92108\, United States
CATEGORIES:Green Day Green Pancakes,School Event San Diego
ATTACH;FMTTYPE=image/png:https://certificate.inxacademy.edu/wp-content/uploads/2025/11/Green-Day-celebration-with-guacamole-spread.png
END:VEVENT
BEGIN:VEVENT
DTSTART;VALUE=DATE:20260224
DTEND;VALUE=DATE:20260225
DTSTAMP:20260419T152455
CREATED:20251122T143131Z
LAST-MODIFIED:20251122T185504Z
UID:2022-1771891200-1771977599@certificate.inxacademy.edu
SUMMARY:Steve Jobs Day
DESCRIPTION:2 Annual Steve Jobs Day.  Come to INX with your turtleneck and perfectly round eye glasses and don’t forget your i Phone.  Take a pic and compete for an Apple gift card!
URL:https://certificate.inxacademy.edu/event/steve-jobs-day/
LOCATION:INX San Diego\, 2555 Camino Del Rio South Suite 150\, San Diego\, 92108\, United States
CATEGORIES:School Event Salt Lake City,School Event San Diego
ATTACH;FMTTYPE=image/jpeg:https://certificate.inxacademy.edu/wp-content/uploads/2025/11/images-4.jpeg
ORGANIZER;CN="INX Academy":MAILTO:sandiego@inxacademy.edu
END:VEVENT
BEGIN:VEVENT
DTSTART;TZID=UTC:20260210T120000
DTEND;TZID=UTC:20260210T140000
DTSTAMP:20260419T152455
CREATED:20251122T133846Z
LAST-MODIFIED:20251122T185422Z
UID:2007-1770724800-1770732000@certificate.inxacademy.edu
SUMMARY:5th Annual For the Love of Chocolate
DESCRIPTION:For the Love of Chocolate is one of the very best events for Chocolate lovers!  Sing Love Songs and Eat Wonderful Chocolate!
URL:https://certificate.inxacademy.edu/event/5th-annual-for-the-love-of-chocolate/
LOCATION:INX San Diego\, 2555 Camino Del Rio South Suite 150\, San Diego\, 92108\, United States
CATEGORIES:School Event San Diego
ATTACH;FMTTYPE=image/jpeg:https://certificate.inxacademy.edu/wp-content/uploads/2025/11/Unknown-1.jpeg
ORGANIZER;CN="INX Academy":MAILTO:sandiego@inxacademy.edu
END:VEVENT
BEGIN:VEVENT
DTSTART;TZID=UTC:20260204T080000
DTEND;TZID=UTC:20260204T170000
DTSTAMP:20260419T152455
CREATED:20251122T141725Z
LAST-MODIFIED:20251122T185322Z
UID:2019-1770192000-1770224400@certificate.inxacademy.edu
SUMMARY:Bob Marley Birthday Celebration
DESCRIPTION:2nd Annual Bob Marley Birthday Celebration We know his birthday is on February 6th but we are celebrating February 4.  Bob Marley Karaoke on breaks! Wear your Reggie Colors!
URL:https://certificate.inxacademy.edu/event/bob-marley-birthday-celebration/
LOCATION:INX San Diego\, 2555 Camino Del Rio South Suite 150\, San Diego\, 92108\, United States
CATEGORIES:School Event San Diego
ATTACH;FMTTYPE=image/jpeg:https://certificate.inxacademy.edu/wp-content/uploads/2025/11/licensed-image.jpeg
ORGANIZER;CN="INX Academy":MAILTO:sandiego@inxacademy.edu
END:VEVENT
BEGIN:VEVENT
DTSTART;TZID=UTC:20260121T103000
DTEND;TZID=UTC:20260121T133000
DTSTAMP:20260419T152455
CREATED:20251122T133122Z
LAST-MODIFIED:20251122T133206Z
UID:2004-1768991400-1769002200@certificate.inxacademy.edu
SUMMARY:First Annual INX Brazilian Culture Day
DESCRIPTION:Brazilian Culture Days is a new annual event where you will learn about Brazilian food\, culture\, dance\, language and even a pop-up Brazil by the Bay store!  This event is sure to be a success!
URL:https://certificate.inxacademy.edu/event/first-annual-inx-brazilian-culture-day/
LOCATION:INX San Diego\, 2555 Camino Del Rio South Suite 150\, San Diego\, 92108\, United States
CATEGORIES:Brazilian Culture Day,School Event San Diego
ATTACH;FMTTYPE=image/jpeg:https://certificate.inxacademy.edu/wp-content/uploads/2025/11/brazil.jpeg
END:VEVENT
BEGIN:VEVENT
DTSTART;TZID=UTC:20251223T100000
DTEND;TZID=UTC:20251223T133000
DTSTAMP:20260419T152455
CREATED:20250822T033844Z
LAST-MODIFIED:20251121T202720Z
UID:1653-1766484000-1766496600@certificate.inxacademy.edu
SUMMARY:3rd Annual Ugly Christmas Sweater Christmas Karaoke Shenanigans
DESCRIPTION:This is the 3rd Annual Ugly Christmas Sweater Christmas Karaoke Shenanigans.  One of the best Christmas Events on Plant Earth.  Wear you sweater make it ugly\, and sing your heart away!  Did we for get White Santa Too!
URL:https://certificate.inxacademy.edu/event/3rd-annual-ugly-christmas-sweater-christmas-karaoke-shenanigans/
LOCATION:INX San Diego\, 2555 Camino Del Rio South Suite 150\, San Diego\, 92108\, United States
CATEGORIES:School Event San Diego
ATTACH;FMTTYPE=image/jpeg:https://certificate.inxacademy.edu/wp-content/uploads/2025/08/reindeer-head-ugly-christmas-sweater-alt-4.jpg
END:VEVENT
BEGIN:VEVENT
DTSTART;TZID=UTC:20251201T090000
DTEND;TZID=UTC:20251201T103000
DTSTAMP:20260419T152455
CREATED:20250828T130659Z
LAST-MODIFIED:20251128T174546Z
UID:1689-1764579600-1764585000@certificate.inxacademy.edu
SUMMARY:INX San Diego and INX Salt Lake City Orientation Day
DESCRIPTION:INX San Diego and INX Salt Lake City Orientation Day.  During INX San Diego and INX Salt Lake City Orientation  you will learn all about INX like about your classes\, schedules and also meet all your new friends. Remember no school!
URL:https://certificate.inxacademy.edu/event/inx-san-diego-and-inx-salt-lake-city-orientation-day/
CATEGORIES:School Event Salt Lake City,School Event San Diego
ATTACH;FMTTYPE=image/jpeg:https://certificate.inxacademy.edu/wp-content/uploads/2025/08/iStock-492878238.jpg
END:VEVENT
BEGIN:VEVENT
DTSTART;TZID=UTC:20251125T115000
DTEND;TZID=UTC:20251125T133000
DTSTAMP:20260419T152455
CREATED:20250821T021157Z
LAST-MODIFIED:20251122T182852Z
UID:1639-1764071400-1764077400@certificate.inxacademy.edu
SUMMARY:3rd Annual Taste of the World
DESCRIPTION:One of the best events here at INX Academy!  Taste of the World is the International Version of Thanksgiving and really is what Thanksgiving is all about.  Sharing Food\, Making Friends\, and Learning Culture!
URL:https://certificate.inxacademy.edu/event/3rd-annual-taste-of-the-world/
LOCATION:INX San Diego\, 2555 Camino Del Rio South Suite 150\, San Diego\, 92108\, United States
CATEGORIES:School Event San Diego,Taste of the World
ATTACH;FMTTYPE=image/png:https://certificate.inxacademy.edu/wp-content/uploads/2025/08/TOTW-480.png
ORGANIZER;CN="INX Academy":MAILTO:sandiego@inxacademy.edu
END:VEVENT
BEGIN:VEVENT
DTSTART;VALUE=DATE:20251117
DTEND;VALUE=DATE:20251118
DTSTAMP:20260419T152455
CREATED:20251025T234808Z
LAST-MODIFIED:20251025T234939Z
UID:1890-1763337600-1763423999@certificate.inxacademy.edu
SUMMARY:INX Formula 1 Slot Car Racing Week
DESCRIPTION:To Celebrate the Second Annual Formula 1 in Las Vegas\, INX San Diego is creating the first ever Slot Car Racing track with one of the largest Carrera Slot Car Tracks in San Diego.  We hope you will love Racing with us!
URL:https://certificate.inxacademy.edu/event/inx-formula-1-slot-car-racing-week/
LOCATION:INX San Diego\, 2555 Camino Del Rio South Suite 150\, San Diego\, 92108\, United States
CATEGORIES:School Event San Diego
ATTACH;FMTTYPE=image/jpeg:https://certificate.inxacademy.edu/wp-content/uploads/2025/10/CARRERA30843-1__86580.jpg
END:VEVENT
BEGIN:VEVENT
DTSTART;TZID=UTC:20251030T180000
DTEND;TZID=UTC:20251030T213000
DTSTAMP:20260419T152455
CREATED:20250820T201249Z
LAST-MODIFIED:20250820T201249Z
UID:1622-1761847200-1761859800@certificate.inxacademy.edu
SUMMARY:INX Academy 4th Annual Escape Halloween
DESCRIPTION:It is that time of year again INX Academy’s 4 Annual Escape Halloween.  Come with your best costume and your chance to win 1 free month of tuition! DJ Small will be spinning\, and tons of Karaoke Jams.  Bring your bubble guns\, and the awesome you!
URL:https://certificate.inxacademy.edu/event/inx-academy-4th-annual-escape-halloween/
LOCATION:Hopnonymous Brewing Co\, 7705 Convoy Ct\, San Diego\, CA\, 92111\, United States
CATEGORIES:School Event San Diego
ATTACH;FMTTYPE=image/jpeg:https://certificate.inxacademy.edu/wp-content/uploads/2025/08/maxresdefault-1.jpg
ORGANIZER;CN="INX Academy":MAILTO:sandiego@inxacademy.edu
END:VEVENT
BEGIN:VEVENT
DTSTART;VALUE=DATE:20251022
DTEND;VALUE=DATE:20251023
DTSTAMP:20260419T152455
CREATED:20250822T034548Z
LAST-MODIFIED:20250822T035419Z
UID:1656-1761091200-1761177599@certificate.inxacademy.edu
SUMMARY:Spooky Food Day
DESCRIPTION:We will be having a spooky food and door decorating day.  Best door and spookiest food wins a pizza party and VIP Seating at Escape Halloween!
URL:https://certificate.inxacademy.edu/event/spooky-food-day/
LOCATION:INX San Diego\, 2555 Camino Del Rio South Suite 150\, San Diego\, 92108\, United States
CATEGORIES:School Event San Diego
ATTACH;FMTTYPE=image/jpeg:https://certificate.inxacademy.edu/wp-content/uploads/2025/08/Silly-Apple-Bites-683x1024-1.jpg
END:VEVENT
BEGIN:VEVENT
DTSTART;TZID=UTC:20251008T120000
DTEND;TZID=UTC:20251008T133000
DTSTAMP:20260419T152455
CREATED:20250928T142657Z
LAST-MODIFIED:20250928T142901Z
UID:1786-1759924800-1759930200@certificate.inxacademy.edu
SUMMARY:5th Annual Halloween Door Decoration Contest
DESCRIPTION:We will be having our 5th Annual Halloween Door Decoration Contest at INX Academy San Diego.  The winning class will get a Pizza Party!
URL:https://certificate.inxacademy.edu/event/5th-annual-halloween-door-decoration-contest/
CATEGORIES:School Event San Diego
ATTACH;FMTTYPE=image/jpeg:https://certificate.inxacademy.edu/wp-content/uploads/2025/09/images-1.jpeg
END:VEVENT
BEGIN:VEVENT
DTSTART;VALUE=DATE:20250929
DTEND;VALUE=DATE:20251001
DTSTAMP:20260419T152455
CREATED:20250827T175013Z
LAST-MODIFIED:20250827T175157Z
UID:1665-1759104000-1759276799@certificate.inxacademy.edu
SUMMARY:FIFA EA SPORTS FC™ 26 Play Release Party
DESCRIPTION:We will have FIFA EA SPORTS FC™ 26 on our Playstation!  Always doing what is Awesome!
URL:https://certificate.inxacademy.edu/event/fifa-ea-sports-fc-26-play-release-party/
LOCATION:INX San Diego\, 2555 Camino Del Rio South Suite 150\, San Diego\, 92108\, United States
CATEGORIES:School Event San Diego
ATTACH;FMTTYPE=image/jpeg:https://certificate.inxacademy.edu/wp-content/uploads/2025/08/Unknown-2.jpeg
ORGANIZER;CN="INX Academy":MAILTO:sandiego@inxacademy.edu
END:VEVENT
BEGIN:VEVENT
DTSTART;TZID=UTC:20250918T064000
DTEND;TZID=UTC:20250918T213000
DTSTAMP:20260419T152455
CREATED:20250827T173853Z
LAST-MODIFIED:20250827T173853Z
UID:1662-1758177600-1758231000@certificate.inxacademy.edu
SUMMARY:3rd Thursday
DESCRIPTION:For our awesome night students INX Presents 3rd Thursday!  Our monthly awesome experience every 3rd Thursday!
URL:https://certificate.inxacademy.edu/event/3rd-thursday/
LOCATION:INX San Diego\, 2555 Camino Del Rio South Suite 150\, San Diego\, 92108\, United States
CATEGORIES:School Event San Diego
ATTACH;FMTTYPE=image/png:https://certificate.inxacademy.edu/wp-content/uploads/2025/08/1ed47ce18ced917e80f8193e13a4b2e5.png
ORGANIZER;CN="INX Academy":MAILTO:sandiego@inxacademy.edu
END:VEVENT
BEGIN:VEVENT
DTSTART;TZID=UTC:20250916T120000
DTEND;TZID=UTC:20250916T133000
DTSTAMP:20260419T152455
CREATED:20250820T202111Z
LAST-MODIFIED:20250904T205407Z
UID:1625-1758024000-1758029400@certificate.inxacademy.edu
SUMMARY:1st Annual INX Tailgate Food Festival
DESCRIPTION:The INX Tailgate food festival is all about learning a true American thing.  Tailgating at sporting events.  This event will be an unforgettable experience for you and your classmate to compete with other classes about which class has the best tailgate food and creativity.
URL:https://certificate.inxacademy.edu/event/1st-annual-inx-tailgate-food-festival/
LOCATION:INX San Diego\, 2555 Camino Del Rio South Suite 150\, San Diego\, 92108\, United States
CATEGORIES:School Event San Diego
ATTACH;FMTTYPE=image/jpeg:https://certificate.inxacademy.edu/wp-content/uploads/2025/08/07742d6c-ad1d-4084-b32a-5f9476ee4112.jpg
ORGANIZER;CN="INX Academy":MAILTO:sandiego@inxacademy.edu
END:VEVENT
BEGIN:VEVENT
DTSTART;VALUE=DATE:20250909
DTEND;VALUE=DATE:20250910
DTSTAMP:20260419T152455
CREATED:20250821T020117Z
LAST-MODIFIED:20250821T020117Z
UID:1636-1757376000-1757462399@certificate.inxacademy.edu
SUMMARY:Hot Dog Day
DESCRIPTION:We love hotdogs so we decided to have a hotdog day for all students and Staff during the second break.  Don’t worry night students we will do the same for you!
URL:https://certificate.inxacademy.edu/event/hot-dog-day/
LOCATION:INX San Diego\, 2555 Camino Del Rio South Suite 150\, San Diego\, 92108\, United States
CATEGORIES:School Event San Diego
ATTACH;FMTTYPE=image/webp:https://certificate.inxacademy.edu/wp-content/uploads/2025/08/46-2_-_Hot_Dog_Day.webp
END:VEVENT
END:VCALENDAR