BEGIN:VCALENDAR
VERSION:2.0
PRODID:-// - ECPv6.15.20//NONSGML v1.0//EN
CALSCALE:GREGORIAN
METHOD:PUBLISH
X-ORIGINAL-URL:https://certificate.inxacademy.edu
X-WR-CALDESC:Events for 
REFRESH-INTERVAL;VALUE=DURATION:PT1H
X-Robots-Tag:noindex
X-PUBLISHED-TTL:PT1H
BEGIN:VTIMEZONE
TZID:UTC
BEGIN:STANDARD
TZOFFSETFROM:+0000
TZOFFSETTO:+0000
TZNAME:UTC
DTSTART:20250101T000000
END:STANDARD
END:VTIMEZONE
BEGIN:VEVENT
DTSTART;VALUE=DATE:20260224
DTEND;VALUE=DATE:20260225
DTSTAMP:20260420T002253
CREATED:20251122T143131Z
LAST-MODIFIED:20251122T185504Z
UID:2022-1771891200-1771977599@certificate.inxacademy.edu
SUMMARY:Steve Jobs Day
DESCRIPTION:2 Annual Steve Jobs Day.  Come to INX with your turtleneck and perfectly round eye glasses and don’t forget your i Phone.  Take a pic and compete for an Apple gift card!
URL:https://certificate.inxacademy.edu/event/steve-jobs-day/
LOCATION:INX San Diego\, 2555 Camino Del Rio South Suite 150\, San Diego\, 92108\, United States
CATEGORIES:School Event Salt Lake City,School Event San Diego
ATTACH;FMTTYPE=image/jpeg:https://certificate.inxacademy.edu/wp-content/uploads/2025/11/images-4.jpeg
ORGANIZER;CN="INX Academy":MAILTO:sandiego@inxacademy.edu
END:VEVENT
BEGIN:VEVENT
DTSTART;TZID=UTC:20260311T183000
DTEND;TZID=UTC:20260317T190000
DTSTAMP:20260420T002253
CREATED:20251122T141055Z
LAST-MODIFIED:20260212T221804Z
UID:2016-1773253800-1773774000@certificate.inxacademy.edu
SUMMARY:Green Day with Guacamole (Night Event)
DESCRIPTION:There are two things we love at INX Academy Green Day Green Day with Guacamole!
URL:https://certificate.inxacademy.edu/event/green-day-with-guacamole/
LOCATION:INX San Diego\, 2555 Camino Del Rio South Suite 150\, San Diego\, 92108\, United States
CATEGORIES:Green Day Green Pancakes,School Event San Diego
ATTACH;FMTTYPE=image/png:https://certificate.inxacademy.edu/wp-content/uploads/2025/11/Green-Day-celebration-with-guacamole-spread.png
END:VEVENT
BEGIN:VEVENT
DTSTART;TZID=UTC:20260317T103000
DTEND;TZID=UTC:20260317T140000
DTSTAMP:20260420T002253
CREATED:20251211T101227Z
LAST-MODIFIED:20251211T101321Z
UID:2105-1773743400-1773756000@certificate.inxacademy.edu
SUMMARY:INX Museum Scavenger Hunt
DESCRIPTION:One of the most popular INX  premium events in Salt Lake City.  The INX Museum Scavenger Hunt.
URL:https://certificate.inxacademy.edu/event/inx-museum-scavenger-hunt/
LOCATION:School Event INX Academy Salt Lake City\, 515 S 700 E\, Salt Lake City\, 84102\, United States
CATEGORIES:INX Museum Scavenger Hunt
ATTACH;FMTTYPE=image/jpeg:https://certificate.inxacademy.edu/wp-content/uploads/2025/12/images.jpeg
ORGANIZER;CN="INX Salt Lake City":MAILTO:saltlake@inxacademy.edu
END:VEVENT
BEGIN:VEVENT
DTSTART;TZID=UTC:20260324T110000
DTEND;TZID=UTC:20260324T143000
DTSTAMP:20260420T002253
CREATED:20251227T231712Z
LAST-MODIFIED:20260212T221130Z
UID:2148-1774350000-1774362600@certificate.inxacademy.edu
SUMMARY:First Annual INX Potluck at the Park
DESCRIPTION:Try food\, apps\, and snacks from around the world at the first annual INX Potluck at the Park
URL:https://certificate.inxacademy.edu/event/first-annual-inx-potluck-at-the-park/
LOCATION:INX San Diego\, 2555 Camino Del Rio South Suite 150\, San Diego\, 92108\, United States
CATEGORIES:INX Potluck at the Park
ATTACH;FMTTYPE=image/png:https://certificate.inxacademy.edu/wp-content/uploads/2025/12/Potluck-in-the-Park-Slide-1920x1080-1.png
ORGANIZER;CN="INX Academy":MAILTO:sandiego@inxacademy.edu
END:VEVENT
BEGIN:VEVENT
DTSTART;VALUE=DATE:20260408
DTEND;VALUE=DATE:20260409
DTSTAMP:20260420T002253
CREATED:20260327T201612Z
LAST-MODIFIED:20260327T201612Z
UID:2680-1775606400-1775692799@certificate.inxacademy.edu
SUMMARY:INX Easter Egg Hunt
DESCRIPTION:Find Easter eggs around the school and get prizes\, cafe vouchers\, and even cash!
URL:https://certificate.inxacademy.edu/event/inx-easter-egg-hunt/
LOCATION:INX San Diego\, 2555 Camino Del Rio South Suite 150\, San Diego\, 92108\, United States
ATTACH;FMTTYPE=image/jpeg:https://certificate.inxacademy.edu/wp-content/uploads/2026/03/for-website-605-×-403px.jpg
ORGANIZER;CN="INX Academy":MAILTO:sandiego@inxacademy.edu
END:VEVENT
BEGIN:VEVENT
DTSTART;TZID=UTC:20260414T103000
DTEND;TZID=UTC:20260414T140000
DTSTAMP:20260420T002253
CREATED:20251211T101840Z
LAST-MODIFIED:20251211T101840Z
UID:2108-1776162600-1776175200@certificate.inxacademy.edu
SUMMARY:INX Arts and Crafts Day
DESCRIPTION:Show off your skills with the Second Annual INX Arts and Crafts Day.  This Event will be Awesome!
URL:https://certificate.inxacademy.edu/event/inx-arts-and-crafts-day/
LOCATION:School Event INX Academy Salt Lake City\, 515 S 700 E\, Salt Lake City\, 84102\, United States
CATEGORIES:INX Arts and Crafts Day
ATTACH;FMTTYPE=image/png:https://certificate.inxacademy.edu/wp-content/uploads/2025/12/images-1.png
ORGANIZER;CN="INX Salt Lake City":MAILTO:saltlake@inxacademy.edu
END:VEVENT
BEGIN:VEVENT
DTSTART;TZID=UTC:20260415T120000
DTEND;TZID=UTC:20260415T123000
DTSTAMP:20260420T002253
CREATED:20260327T202022Z
LAST-MODIFIED:20260327T202318Z
UID:2683-1776254400-1776256200@certificate.inxacademy.edu
SUMMARY:INX San Diego Ice Cream Day
DESCRIPTION:INX San Diego Ice Cream Day during the second break!
URL:https://certificate.inxacademy.edu/event/inx-san-diego-ice-cream-day/
LOCATION:INX San Diego\, 2555 Camino Del Rio South Suite 150\, San Diego\, 92108\, United States
CATEGORIES:Ice Cream Day
ATTACH;FMTTYPE=image/png:https://certificate.inxacademy.edu/wp-content/uploads/2026/03/website-feature-national-ice-cream-day-third-sunday-in-july.png
END:VEVENT
BEGIN:VEVENT
DTSTART;TZID=UTC:20260421T110000
DTEND;TZID=UTC:20260421T140000
DTSTAMP:20260420T002253
CREATED:20251122T135931Z
LAST-MODIFIED:20260325T131542Z
UID:2013-1776769200-1776780000@certificate.inxacademy.edu
SUMMARY:INX Academy 3rd Annual Amazing Race at Liberty Station
DESCRIPTION:INX Academy 3rd Annual Amazing Race is an event where you really learn about Liberty Station with many twists and turns along the way.  The most fun you will have all year!
URL:https://certificate.inxacademy.edu/event/inx-academy-3rd-annual-amazing-race/
CATEGORIES:Amazing Race,School Event San Diego
ATTACH;FMTTYPE=image/jpeg:https://certificate.inxacademy.edu/wp-content/uploads/2025/11/Amazing-Race.jpg
ORGANIZER;CN="INX Academy":MAILTO:sandiego@inxacademy.edu
END:VEVENT
BEGIN:VEVENT
DTSTART;TZID=UTC:20260504T180000
DTEND;TZID=UTC:20260504T210000
DTSTAMP:20260420T002253
CREATED:20251122T132110Z
LAST-MODIFIED:20251122T192345Z
UID:2001-1777917600-1777928400@certificate.inxacademy.edu
SUMMARY:INX May the 4th Star Wars Karaoke Nite
DESCRIPTION:You can expect themed food\, merchandise\, character greetings\, photo opportunities\, and special entertainment like a lightsaber instructional and a Galactic Dance Party.  The most fun you will have all year!
URL:https://certificate.inxacademy.edu/event/inx-may-the-4th-star-wars-karaoke-nite/
LOCATION:INX San Diego\, 2555 Camino Del Rio South Suite 150\, San Diego\, 92108\, United States
CATEGORIES:May the 4th at INX Academy
ATTACH;FMTTYPE=image/jpeg:https://certificate.inxacademy.edu/wp-content/uploads/2025/11/Star-Wars.jpg
ORGANIZER;CN="INX Academy":MAILTO:sandiego@inxacademy.edu
END:VEVENT
BEGIN:VEVENT
DTSTART;VALUE=DATE:20260519
DTEND;VALUE=DATE:20260520
DTSTAMP:20260420T002253
CREATED:20251122T181623Z
LAST-MODIFIED:20260325T131320Z
UID:2054-1779148800-1779235199@certificate.inxacademy.edu
SUMMARY:3rd Annual Golden Hangers Fashion Show and Exchange
DESCRIPTION:3rd Annual Golden Hangers Fashion Show with clothing\, art and household exchange.  Bring your items that you would like to exchange or trade.   All remaining items will be donated to Father Joe’s Villages.
URL:https://certificate.inxacademy.edu/event/3rd-annual-golden-hangers-fashion-show-and-exchange/
LOCATION:INX San Diego\, 2555 Camino Del Rio South Suite 150\, San Diego\, 92108\, United States
CATEGORIES:Golden Hangers,School Event San Diego
ATTACH;FMTTYPE=image/jpeg:https://certificate.inxacademy.edu/wp-content/uploads/2025/11/2025-Thrift-Store-Fashion-Show-Marcom-NH-00-10-scaled-1.jpg
ORGANIZER;CN="INX Academy":MAILTO:sandiego@inxacademy.edu
END:VEVENT
BEGIN:VEVENT
DTSTART;TZID=UTC:20260519T103000
DTEND;TZID=UTC:20260519T103000
DTSTAMP:20260420T002253
CREATED:20251211T170709Z
LAST-MODIFIED:20251211T170828Z
UID:2111-1779186600-1779186600@certificate.inxacademy.edu
SUMMARY:INX Potluck at the Park
DESCRIPTION:Try food\, apps\, and snacks from around the world at the first annual INX Potluck at the Park
URL:https://certificate.inxacademy.edu/event/inx-potluck-at-the-park/
LOCATION:School Event INX Academy Salt Lake City\, 515 S 700 E\, Salt Lake City\, 84102\, United States
CATEGORIES:INX Potluck at the Park
ATTACH;FMTTYPE=image/png:https://certificate.inxacademy.edu/wp-content/uploads/2025/12/Potluck-in-the-Park-Slide-1920x1080-1.png
ORGANIZER;CN="INX Salt Lake City":MAILTO:saltlake@inxacademy.edu
END:VEVENT
BEGIN:VEVENT
DTSTART;TZID=UTC:20260616T080000
DTEND;TZID=UTC:20260616T170000
DTSTAMP:20260420T002253
CREATED:20251211T171724Z
LAST-MODIFIED:20251211T171724Z
UID:2114-1781596800-1781629200@certificate.inxacademy.edu
SUMMARY:INX Cares Volunteer Service Project
DESCRIPTION:INX Cares is a program were our students and staff give back to the community.  We are sure that this will be a satisfying  event.
URL:https://certificate.inxacademy.edu/event/inx-cares-volunteer-service-project/
LOCATION:School Event INX Academy Salt Lake City\, 515 S 700 E\, Salt Lake City\, 84102\, United States
CATEGORIES:INX Cares
ATTACH;FMTTYPE=image/jpeg:https://certificate.inxacademy.edu/wp-content/uploads/2025/12/download-2.jpg
ORGANIZER;CN="INX Salt Lake City":MAILTO:saltlake@inxacademy.edu
END:VEVENT
BEGIN:VEVENT
DTSTART;TZID=UTC:20260617T110000
DTEND;TZID=UTC:20260617T143000
DTSTAMP:20260420T002253
CREATED:20251122T135125Z
LAST-MODIFIED:20251122T140418Z
UID:2010-1781694000-1781706600@certificate.inxacademy.edu
SUMMARY:3 Annual INX Summer Games
DESCRIPTION:INX Summer Games is an annual event with fun with teams completing using their mind\, body\, and speed to win.  The INX Summer Games are held at Liberty Park!  The most fun you will have with friends and class mates all year!
URL:https://certificate.inxacademy.edu/event/3-annual-inx-summer-games/
CATEGORIES:INX Summer Games,School Event San Diego
ATTACH;FMTTYPE=image/jpeg:https://certificate.inxacademy.edu/wp-content/uploads/2025/11/67fa578e45aa6489f32801ad_pexels-rodnae-productions-8035106.jpeg
END:VEVENT
BEGIN:VEVENT
DTSTART;TZID=UTC:20260701T110000
DTEND;TZID=UTC:20260701T120000
DTSTAMP:20260420T002253
CREATED:20251211T183827Z
LAST-MODIFIED:20251211T183827Z
UID:2128-1782903600-1782907200@certificate.inxacademy.edu
SUMMARY:INX CPT Webinar
DESCRIPTION:Learn more about CPT at the INX CPT Webinar \nSign up here
URL:https://certificate.inxacademy.edu/event/inx-cpt-webinar-3/
CATEGORIES:CPT
ATTACH;FMTTYPE=image/jpeg:https://certificate.inxacademy.edu/wp-content/uploads/2025/12/download-4.jpg
END:VEVENT
BEGIN:VEVENT
DTSTART;TZID=UTC:20260721T103000
DTEND;TZID=UTC:20260721T143000
DTSTAMP:20260420T002253
CREATED:20251211T172528Z
LAST-MODIFIED:20251211T172550Z
UID:2117-1784629800-1784644200@certificate.inxacademy.edu
SUMMARY:First Annual INX Summer Games Salt Lake City
DESCRIPTION:INX Summer Games is an annual event with fun with teams completing using their mind\, body\, and speed to win. The most fun you will have with friends and class mates all year!
URL:https://certificate.inxacademy.edu/event/first-annual-inx-summer-games-salt-lake-city/
LOCATION:School Event INX Academy Salt Lake City\, 515 S 700 E\, Salt Lake City\, 84102\, United States
CATEGORIES:INX Summer Games SLC
ATTACH;FMTTYPE=image/jpeg:https://certificate.inxacademy.edu/wp-content/uploads/2025/12/download-3.jpg
ORGANIZER;CN="INX Salt Lake City":MAILTO:saltlake@inxacademy.edu
END:VEVENT
BEGIN:VEVENT
DTSTART;TZID=UTC:20260723T110000
DTEND;TZID=UTC:20260723T140000
DTSTAMP:20260420T002253
CREATED:20251122T150313Z
LAST-MODIFIED:20251122T150313Z
UID:2028-1784804400-1784815200@certificate.inxacademy.edu
SUMMARY:4th Annual INX Comic-Con Crawl
DESCRIPTION:A San Diego tradition\, The Annual INX Comic-Con Crawl where we interview people in Cosplay at the Convention Center.  This is a Really Awesome Event!
URL:https://certificate.inxacademy.edu/event/4th-annual-inx-comic-con-crawl/
CATEGORIES:Comic Con
ATTACH;FMTTYPE=image/jpeg:https://certificate.inxacademy.edu/wp-content/uploads/2025/11/comicconcrawl-scaled.jpeg
END:VEVENT
BEGIN:VEVENT
DTSTART;TZID=UTC:20260825T110000
DTEND;TZID=UTC:20260825T143000
DTSTAMP:20260420T002253
CREATED:20251122T144414Z
LAST-MODIFIED:20251122T144414Z
UID:2025-1787655600-1787668200@certificate.inxacademy.edu
SUMMARY:4th INX Annual Endless Summer
DESCRIPTION:4th Annual Endless Summer is a great time at the beach hanging out with friends\, eating\, playing volleyball or whatever else you love to do.  Just chillin is a great option.
URL:https://certificate.inxacademy.edu/event/4th-inx-annual-endless-summer/
ATTACH;FMTTYPE=image/jpeg:https://certificate.inxacademy.edu/wp-content/uploads/2025/11/endless.jpeg
END:VEVENT
END:VCALENDAR