BEGIN:VCALENDAR
VERSION:2.0
PRODID:-// - ECPv6.15.20//NONSGML v1.0//EN
CALSCALE:GREGORIAN
METHOD:PUBLISH
X-ORIGINAL-URL:https://certificate.inxacademy.edu
X-WR-CALDESC:Events for 
REFRESH-INTERVAL;VALUE=DURATION:PT1H
X-Robots-Tag:noindex
X-PUBLISHED-TTL:PT1H
BEGIN:VTIMEZONE
TZID:UTC
BEGIN:STANDARD
TZOFFSETFROM:+0000
TZOFFSETTO:+0000
TZNAME:UTC
DTSTART:20250101T000000
END:STANDARD
END:VTIMEZONE
BEGIN:VEVENT
DTSTART;TZID=UTC:20260825T110000
DTEND;TZID=UTC:20260825T143000
DTSTAMP:20260420T015635
CREATED:20251122T144414Z
LAST-MODIFIED:20251122T144414Z
UID:2025-1787655600-1787668200@certificate.inxacademy.edu
SUMMARY:4th INX Annual Endless Summer
DESCRIPTION:4th Annual Endless Summer is a great time at the beach hanging out with friends\, eating\, playing volleyball or whatever else you love to do.  Just chillin is a great option.
URL:https://certificate.inxacademy.edu/event/4th-inx-annual-endless-summer/
ATTACH;FMTTYPE=image/jpeg:https://certificate.inxacademy.edu/wp-content/uploads/2025/11/endless.jpeg
END:VEVENT
END:VCALENDAR