BEGIN:VCALENDAR
VERSION:2.0
PRODID:-// - ECPv6.15.20//NONSGML v1.0//EN
CALSCALE:GREGORIAN
METHOD:PUBLISH
X-ORIGINAL-URL:https://certificate.inxacademy.edu
X-WR-CALDESC:Events for 
REFRESH-INTERVAL;VALUE=DURATION:PT1H
X-Robots-Tag:noindex
X-PUBLISHED-TTL:PT1H
BEGIN:VTIMEZONE
TZID:UTC
BEGIN:STANDARD
TZOFFSETFROM:+0000
TZOFFSETTO:+0000
TZNAME:UTC
DTSTART:20250101T000000
END:STANDARD
END:VTIMEZONE
BEGIN:VEVENT
DTSTART;TZID=UTC:20260616T080000
DTEND;TZID=UTC:20260616T170000
DTSTAMP:20260419T145945
CREATED:20251211T171724Z
LAST-MODIFIED:20251211T171724Z
UID:2114-1781596800-1781629200@certificate.inxacademy.edu
SUMMARY:INX Cares Volunteer Service Project
DESCRIPTION:INX Cares is a program were our students and staff give back to the community.  We are sure that this will be a satisfying  event.
URL:https://certificate.inxacademy.edu/event/inx-cares-volunteer-service-project/
LOCATION:School Event INX Academy Salt Lake City\, 515 S 700 E\, Salt Lake City\, 84102\, United States
CATEGORIES:INX Cares
ATTACH;FMTTYPE=image/jpeg:https://certificate.inxacademy.edu/wp-content/uploads/2025/12/download-2.jpg
ORGANIZER;CN="INX Salt Lake City":MAILTO:saltlake@inxacademy.edu
END:VEVENT
BEGIN:VEVENT
DTSTART;TZID=UTC:20260617T110000
DTEND;TZID=UTC:20260617T143000
DTSTAMP:20260419T145945
CREATED:20251122T135125Z
LAST-MODIFIED:20251122T140418Z
UID:2010-1781694000-1781706600@certificate.inxacademy.edu
SUMMARY:3 Annual INX Summer Games
DESCRIPTION:INX Summer Games is an annual event with fun with teams completing using their mind\, body\, and speed to win.  The INX Summer Games are held at Liberty Park!  The most fun you will have with friends and class mates all year!
URL:https://certificate.inxacademy.edu/event/3-annual-inx-summer-games/
CATEGORIES:INX Summer Games,School Event San Diego
ATTACH;FMTTYPE=image/jpeg:https://certificate.inxacademy.edu/wp-content/uploads/2025/11/67fa578e45aa6489f32801ad_pexels-rodnae-productions-8035106.jpeg
END:VEVENT
END:VCALENDAR